BEGIN:VCALENDAR
VERSION:2.0
PRODID:-//Satakunnan Biolaakso - ECPv6.15.18//NONSGML v1.0//EN
CALSCALE:GREGORIAN
METHOD:PUBLISH
X-WR-CALNAME:Satakunnan Biolaakso
X-ORIGINAL-URL:https://www.satakunnanbiolaakso.fi
X-WR-CALDESC:Tapahtumat Satakunnan Biolaakso
REFRESH-INTERVAL;VALUE=DURATION:PT1H
X-Robots-Tag:noindex
X-PUBLISHED-TTL:PT1H
BEGIN:VTIMEZONE
TZID:Europe/Helsinki
BEGIN:DAYLIGHT
TZOFFSETFROM:+0200
TZOFFSETTO:+0300
TZNAME:EEST
DTSTART:20240331T010000
END:DAYLIGHT
BEGIN:STANDARD
TZOFFSETFROM:+0300
TZOFFSETTO:+0200
TZNAME:EET
DTSTART:20241027T010000
END:STANDARD
BEGIN:DAYLIGHT
TZOFFSETFROM:+0200
TZOFFSETTO:+0300
TZNAME:EEST
DTSTART:20250330T010000
END:DAYLIGHT
BEGIN:STANDARD
TZOFFSETFROM:+0300
TZOFFSETTO:+0200
TZNAME:EET
DTSTART:20251026T010000
END:STANDARD
BEGIN:DAYLIGHT
TZOFFSETFROM:+0200
TZOFFSETTO:+0300
TZNAME:EEST
DTSTART:20260329T010000
END:DAYLIGHT
BEGIN:STANDARD
TZOFFSETFROM:+0300
TZOFFSETTO:+0200
TZNAME:EET
DTSTART:20261025T010000
END:STANDARD
BEGIN:DAYLIGHT
TZOFFSETFROM:+0200
TZOFFSETTO:+0300
TZNAME:EEST
DTSTART:20270328T010000
END:DAYLIGHT
BEGIN:STANDARD
TZOFFSETFROM:+0300
TZOFFSETTO:+0200
TZNAME:EET
DTSTART:20271031T010000
END:STANDARD
END:VTIMEZONE
BEGIN:VEVENT
DTSTART;TZID=Europe/Helsinki:20250923T000000
DTEND;TZID=Europe/Helsinki:20250924T235959
DTSTAMP:20260424T021835
CREATED:20250731T091656Z
LAST-MODIFIED:20250911T083542Z
UID:2165-1758585600-1758758399@www.satakunnanbiolaakso.fi
SUMMARY:Ruokateemainen matka Lahteen
DESCRIPTION:Tervetuloa mukaamme tutustumaan Lahden alueen ruoka-alan toimijoihin ti-ke 23.9.-24.9.2025! \n\n\n\nMillaisia paloja sinun ympäriltäsi puuttuu?Lahden Viljaklusteri on esimerkki siitä\, mitä voi syntyä\, kun yritykset\, tuottajat ja asiantuntijat rakentavat yhdessä. Matkan aikana pääsemme esimerkiksi tutustumaan siihen\, miten eri toimijat hyödyntävät toistensa vahvuuksia – myös sivuvirtoja ja yhteistä kapasiteettia.Jos sinulla on tuotantoa\, raaka-aineita tai ideoita\, mutta puuttuu kumppani tai käyttökohde\, lähde mukaan. Yhdessä voimme tunnistaa uusia mahdollisuuksia ja koota paloja\, joista syntyy jotain enemmän. \n\n\n\nTutustumme matkalla:Lahden alueen Viljaklusteriin ja sen toimintaanSieltä meille tulee puhumaan Ladec Oy:n elintarviketeollisuuden liiketoimintakehittäjä Henrik Yli-Seppälä. Viking MaltiinBrewmaster Raimo Koljonen pitää luennon Viking Maltin toiminnastaHartwall panimoonVierailemme panimomyymälässäFazer leipomoonVierailemme Fazer ShopissaTeerenpeliinPanimo & Tislaamo -kierros sisältäen yritysesittelyn\, kierros tuotantotiloissa sekä olut tasting. Lisäksi mahdollisuus ostoksille panimomyymälässä.Kinnarin tilaanKahvit ja yritykseen tutustuminenLAB ammattikorkeakoulun Food Pilot Plant -laboratorioonMeidät vastaanottaa TKI-asiantuntija Pasi Raja \n\n\n\nLisäksi menomatkalla vierailemme ja nautimme lounasta Makulihan tilamyymälässä Tammelassa. Keskiviikkona lounastamme Lahden satamassa ja tutustumme Bistro & Bar Kokkaan. Molemmissa lounaspaikoissa saamme kuulla lyhyen yritysesittelyn. \n\n\n\nLisätietoa vierailukohteista: \n\n\n\n\nLahden alueen Viljaklusteri\n\n\n\nViking Malt\n\n\n\nHartwallin panimo\n\n\n\nFazerin leipomo\n\n\n\nTeerenpeli\, sisältäen Panimo & Tislaamo -kierroksen\n\n\n\nKinnarin tila\n\n\n\nLAB ammattikorkeakoulun Food Pilot Plant -laboratorio\n\n\n\nMakulihan tilamyymälä\n\n\n\nBisto & Bar Kokka\n\n\n\n\nYhteiskuljetus järjestetään Porista ja HuittisistaLähtö Porista tiistaina 23.9. klo 9:30\, Huittisista noin klo 10.30. Paluu Huittisiin keskiviikkona 24.9. noin klo 17.50 ja Poriin klo 18:50.Matkan (kuljetus\, ruoat\, vierailut) tarjoaa Satakunnan Biolaakso. Majoitus on omakustanteinen. GreenStar hotellissa varauskiintiö\, siihen saa koodin ilmoittautumisen yhteydessä. Majoittuminen yksin 87€\, kaksin 99€. Aamupala sisältyy hintaan. \n\n\n\nLisätietoa ja ilmoittautuminen 15.9. mennessä: annika.e.eklof@samk.fi\, puh. 050 402 4097 \n\n\n\nMatkan järjestää Satakunnan ammattikorkeakoulun Teknologisesti vihreämpi ja vireämpi Etelä-Satakunta -hanke.
URL:https://www.satakunnanbiolaakso.fi/tapahtuma/ruokateemainen-matka-lahteen/
END:VEVENT
BEGIN:VEVENT
DTSTART;TZID=Europe/Helsinki:20251001T123000
DTEND;TZID=Europe/Helsinki:20251001T160000
DTSTAMP:20260424T021835
CREATED:20250819T101236Z
LAST-MODIFIED:20250926T101628Z
UID:2200-1759321800-1759334400@www.satakunnanbiolaakso.fi
SUMMARY:Yhteinen Tekijä -seminaari
DESCRIPTION:Ke 1.10. klo 12:30 – 16:00 \n\n\n\n\n\n\n\nRuoka-alan koulutus\, työpaikat ja tunteet työelämässä\n\n\n\nTervetuloa Yhteinen tekijä -seminaariin Rauma-saliin 1.10. klo 12:30-16! \n\n\n\nRuoka-alan osaajapula on yhteinen haaste. Siksi on tärkeää löytää ratkaisut yhdessä. \n\n\n\nPaikka: Rauma-saliAika: ke 1.10. klo 12:30 – 16Kenelle: Ruoka-alan yrityksille\, koulutuksen tarjoajille\, opiskelijoille\, sidosryhmille ja alan tulevaisuudesta kiinnostuneille \n\n\n\nMiksi osallistua? \n\n\n\n\nPäivitä tietosi uusista alan koulutusmahdollisuuksista\n\n\n\nLöydä käytännön ratkaisuja osaajapulaan\n\n\n\nOpi käsittelemään työelämän vaikeita tunteita\n\n\n\nLöydä oma paikkasi ruoka-alalla\n\n\n\n\nPuhujat:Niina Tuomola\, WinNovaElintarvikeala WinNovassaVesa Rosenqvist\, SAMKElintarvikeinsinöörin opinnotRonja Kokko & Anne Hakala\, SaarioinenSaarioisten työtehtävien esittely\, Saarioinen työnantajana ja millaisia osaajia alalla tarvitaanVille Luoma\, Helsingin YliopistoUusiutuvien luonnonvarojen kestävän käytön teknologiat  -maisteriohjelma Helsingin yliopistollaLauri NummenmaaTunteet ja työelämä: Mitä tiede paljastaa v*itutuksesta ja miten kääntää tunne työelämän voimavaraksi?Lisäksi seminaarin yhteydessä järjestetään minimessut\, joissa voit tutustua ruoka-alan koulutuspolkuihin ja avoimiin työmahdollisuuksiin. \n\n\n\n\n\n\n\nTilaisuus on maksuton ja sisältää kahvitarjoilun.Lisätietoa tapahtumasta:Annika Eklöfannika.e.eklof@samk.fi \n\n\n\n\n\n\n\nTapahtuman järjestää Teknologisesti vihreämpi ja vireämpi Etelä-Satakunta -hanke. Hanketta rahoittavat Satakuntaliitto ja SAMK. Projekti on EU:n osarahoittama. Lue hankkeesta lisää.
URL:https://www.satakunnanbiolaakso.fi/tapahtuma/yhteinen-tekija-seminaari/
END:VEVENT
BEGIN:VEVENT
DTSTART;TZID=Europe/Helsinki:20251009T150000
DTEND;TZID=Europe/Helsinki:20251009T180000
DTSTAMP:20260424T021835
CREATED:20250911T075226Z
LAST-MODIFIED:20250911T080927Z
UID:2299-1760022000-1760032800@www.satakunnanbiolaakso.fi
SUMMARY:Satakunta International People’s Fair 2025 (SIPF2025)
DESCRIPTION:To 9.10. klo 15 – 18 \n\n\n\nWhere internationals\, companies and communities meet\n\n\n\nSatakunnan Biolaakso will be present at the Satakunta International People’s Fair 2025 (SIPF2025)\, an event that brings together internationals\, locals and the wider community around the themes of employment\, integration and cultural encounter.Date & time: October 9\, 2025\, 15:00–18:00Location: Lauttakylä High School\, Lauttakyläkatu 22\, Huittinen \n\n\n\nThe programme includes a CV workshop\, a panel discussion on employment\, cultural performances and a health booth – all free of charge and open to everyone. \n\n\n\nA bus will be arranged from Pori (departure from SAMK). Remember to register for the ride! You can do it here. \n\n\n\n\n\n\n\n\n\n\n\n\n\n\n\nJoin us in Huittinen\n\n\n\nSatakunnan Biolaakso will be at SIPF with a clear message: the food industry needs you. We want to meet you face to face\, to show that your skills and experiences are valued here\, and to explore how you can find your place in a sector that is essential for Satakunta’s future. Read more about it here.For us\, every connection made at the event is a step toward a stronger\, more sustainable\, and more inclusive and international food sector. \n\n\n\nWe warmly invite companies\, international students and workers\, and everyone interested in the future of food in Satakunta to join us at SIPF2025. Come to connect\, to learn and to explore the opportunities in Satakunta’s food industry!
URL:https://www.satakunnanbiolaakso.fi/tapahtuma/satakunta-international-peoples-fair-2025-sipf2025/
END:VEVENT
BEGIN:VEVENT
DTSTART;TZID=Europe/Helsinki:20251105T083000
DTEND;TZID=Europe/Helsinki:20251105T160000
DTSTAMP:20260424T021835
CREATED:20250901T093442Z
LAST-MODIFIED:20250901T093634Z
UID:2227-1762331400-1762358400@www.satakunnanbiolaakso.fi
SUMMARY:Kirkkokallio-konferenssi
DESCRIPTION:Ke 5.11. klo 8-30 – 16 \n\n\n\nKiertotalouden ja kestävän teollisuuden asiantuntijapäivä\n\n\n\n\n\n\n\nTervetuloa 5.11. klo 8.30–16 Kirkkokallio-konferenssiin Pohjois-Satakuntaan\, Kankaanpäähän. Asiantuntijapäivä kokoaa kiertotaloudesta kiinnostuneet kuulemaan Kirkkokallion ekoteollisuuspuiston tuoreimpia kehittämissuuntia\, keynote-puheenvuoroja kiertotalouden ja vihreän siirtymän ammattilaisilta sekä verkostoitumaan. Tilaisuuden ja iltapäivän paneelikeskustelun juontaa Norrum Oy:n Jukka Teräs\, joka tuntee hyvin Suomen ekoteollisuuspuistokenttää ja on ollut asiantuntijana mukana laatimassa Kirkkokallion strategiaa.  \n\n\n\nKirkkokallion ekoteollisuuspuisto Kankaanpään Honkajoella on yksi Suomen vanhimmista ekoteollisuuspuistoista\, jossa energiayhtiö ja yritykset muodostavat poikkeuksellisen toimivan yhteistyöverkoston. Kirkkokalliolla sivuvirrat\, hukkalämpö ja energia kiertävät yritysten välillä tehokkaasti. Kiertotalouden yritysveturina alueella toimii Honkajoki Oy\, joka käsittelee eläinperäiset sivuvirrat kiertoon turvallisesti lähes ainoana toimijana Suomessa. \n\n\n\nTapahtuman järjestää Satakunnan ammattikorkeakoulun Resurssiviisauden tutkimuskokonaisuuden vetämä Pohjois-Satakunta vihreän siirtymän aalloilla -hanke yhteistyössä Kankaanpään kaupungin ja Kirkkokallion toimijoiden kanssa. Hanketta rahoittaa EU:n Oikeudenmukaisen siirtymän rahasto ja Satakuntaliitto. \n\n\n\nPuhujat ja sijaintitiedot päivitetään tapahtumasivulle\, josta löydät myös ilmoittautumislinkin: https://psvsa.samk.fi/kirkkokallio-konferenssi/ 
URL:https://www.satakunnanbiolaakso.fi/tapahtuma/kirkkokallio-konferenssi/
END:VEVENT
BEGIN:VEVENT
DTSTART;TZID=Europe/Helsinki:20251126T090000
DTEND;TZID=Europe/Helsinki:20251126T113000
DTSTAMP:20260424T021835
CREATED:20251029T182736Z
LAST-MODIFIED:20251111T114643Z
UID:2334-1764147600-1764156600@www.satakunnanbiolaakso.fi
SUMMARY:Hitsaustyöpaja Porissa
DESCRIPTION:Ke 26.11. klo 9 – 11:30 \n\n\n\n\n\n\n\nTyöpajan teemana on laser- ja robottihitsauksen tulevaisuus. Tapahtumassa yhdistyvät teoria\, käytäntö ja uudet teknologiat! \n\n\n\nMissä: Konetekniikan laboratorio\, SAMK\, PoriMilloin: Ke 26.11.2025 klo 9.00-11:30\, jonka jälkeen mahdollisuus jatkaa keskustelua omakustanteisella lounaalla \n\n\n\nAloitamme rennosti aamukahvilla ja tietopaketilla siitä\, miksi laser on yhä useammin oikea valinta\, kun tavoitellaan nopeutta\, tarkkuutta ja laatua. \n\n\n\n\n\n\n\n\n\nTietoiskun jälkeen siirrymme konetekniikan laboratorioon\, jossa pääset näkemään käytännössä: \n\n\n\n\nlaserhitsauksen sovelluksia sekä käsin että robotilla\n\n\n\nyhteistyörobotteja eli cobotteja hitsaustehtävissä\n\n\n\nuusinta hitsaustekniikkaa ja -laitteistoa käytännön esimerkeillä\n\n\n\n\nLisäksi työpajassa osaamistaan ja vinkkejä on jakamassa esimerkiksi Kemppi (hitsauskoneet)\, Ionix (laserhitsaus)\, Kassow (yhteistyörobotit)\, ABB Robotics Finland (robotit)\, Cavitar (hitsauskamera) ja Finnrobotics (hitsausyhteistyörobotti). \n\n\n\nTapahtuma tarjoaa erinomaisen mahdollisuuden verkostoitua\, keskustella alan asiantuntijoiden kanssa ja nähdä\, mihin suuntaan hitsaustekniikka kehittyy. \n\n\n\nLisätietoa tapahtumasta Teemu Harjula\, teemu.m.harjula@samk.fi \n\n\n\nIlmoittaudu mukaan alla olevalla lomakkeella ja varaa oman paikkasi tuottavuuden kasvussa! Antamiasi yhteystietoja käytetään vain tämän työpajan järjestämiseen ja siihen liittyvään viestintään. Tietoja ei luovuteta kolmansille osapuolille ja ne poistetaan tilaisuuden jälkeen. \n\n\n\n\nNimi\n\n\n\nYritys / organisaatio\n\n\n\nSähköposti\n\n\n\nPuhelinnumeroUK (+44)USA / Canada (+1)Algeria (+213)Andorra (+376)Angola (+244)Anguilla (+1264)Antigua & Barbuda (+1268)Argentina (+54)Armenia (+374)Aruba (+297)Australia (+61)Austria (+43)Azerbaijan (+994)Bahamas (+1242)Bahrain (+973)Bangladesh (+880)Barbados (+1246)Belarus (+375)Belgium (+32)Belize (+501)Benin (+229)Bermuda (+1441)Bhutan (+975)Bolivia (+591)Bosnia Herzegovina (+387)Botswana (+267)Brazil (+55)Brunei (+673)Bulgaria (+359)Burkina Faso (+226)Burundi (+257)Cambodia (+855)Cameroon (+237)Cape Verde Islands (+238)Cayman Islands (+1345)Central African Republic (+236)Chile (+56)China (+86)Colombia (+57)Comoros (+269)Congo (+242)Cook Islands (+682)Costa Rica (+506)Croatia (+385)Cuba (+53)Cyprus North (+90392)Cyprus South (+357)Czech Republic (+420)Denmark (+45)Djibouti (+253)Dominica (+1809)Dominican Republic (+1809)Ecuador (+593)Egypt (+20)El Salvador (+503)Equatorial Guinea (+240)Eritrea (+291)Estonia (+372)Ethiopia (+251)Falkland Islands (+500)Faroe Islands (+298)Fiji (+679)Finland (+358)France (+33)French Guiana (+594)French Polynesia (+689)Gabon (+241)Gambia (+220)Georgia (+7880)Germany (+49)Ghana (+233)Gibraltar (+350)Greece (+30)Greenland (+299)Grenada (+1473)Guadeloupe (+590)Guam (+671)Guatemala (+502)Guinea (+224)Guinea – Bissau (+245)Guyana (+592)Haiti (+509)Honduras (+504)Hong Kong (+852)Hungary (+36)Iceland (+354)India (+91)Indonesia (+62)Iran (+98)Iraq (+964)Ireland (+353)Israel (+972)Italy (+39)Jamaica (+1876)Japan (+81)Jordan (+962)Kazakhstan (+7)Kenya (+254)Kiribati (+686)Korea North (+850)Korea South (+82)Kuwait (+965)Kyrgyzstan (+996)Laos (+856)Latvia (+371)Lebanon (+961)Lesotho (+266)Liberia (+231)Libya (+218)Liechtenstein (+417)Lithuania (+370)Luxembourg (+352)Macao (+853)Macedonia (+389)Madagascar (+261)Malawi (+265)Malaysia (+60)Maldives (+960)Mali (+223)Malta (+356)Marshall Islands (+692)Martinique (+596)Mauritania (+222)Mayotte (+269)Mexico (+52)Micronesia (+691)Moldova (+373)Monaco (+377)Mongolia (+976)Montserrat (+1664)Morocco (+212)Mozambique (+258)Myanmar (+95)Namibia (+264)Nauru (+674)Nepal (+977)Netherlands (+31)New Caledonia (+687)New Zealand (+64)Nicaragua (+505)Niger (+227)Nigeria (+234)Niue (+683)Norfolk Islands (+672)Northern Marianas (+670)Norway (+47)Oman (+968)Palau (+680)Panama (+507)Papua New Guinea (+675)Paraguay (+595)Peru (+51)Philippines (+63)Poland (+48)Portugal (+351)Puerto Rico (+1787)Qatar (+974)Reunion (+262)Romania (+40)Russia (+7)Rwanda (+250)San Marino (+378)Sao Tome & Principe (+239)Saudi Arabia (+966)Senegal (+221)Serbia (+381)Seychelles (+248)Sierra Leone (+232)Singapore (+65)Slovak Republic (+421)Slovenia (+386)Solomon Islands (+677)Somalia (+252)South Africa (+27)Spain (+34)Sri Lanka (+94)St. Helena (+290)St. Kitts (+1869)St. Lucia (+1758)Sudan (+249)Suriname (+597)Swaziland (+268)Sweden (+46)Switzerland (+41)Syria (+963)Taiwan (+886)Tajikstan (+7)Thailand (+66)Togo (+228)Tonga (+676)Trinidad & Tobago (+1868)Tunisia (+216)Turkey (+90)Turkmenistan (+7)Turkmenistan (+993)Turks & Caicos Islands (+1649)Tuvalu (+688)Uganda (+256)Ukraine (+380)United Arab Emirates (+971)Uruguay (+598)Uzbekistan (+7)Vanuatu (+678)Vatican City (+379)Venezuela (+58)Vietnam (+84)Virgin Islands – British (+1284)Virgin Islands – US (+1340)Wallis & Futuna (+681)Yemen (North)(+969)Yemen (South)(+967)Zambia (+260)Zimbabwe (+263)\n\n\n\nToiveita järjestäjille\nVahvista ilmoittautumisesiKiitos ilmoittautumisestasi!Lomakkeen lähetyksessä tapahtui virhe. Tarkista kaikki kentät ja yritä uudelleen. Pahoittelut ylimääräisestä vaivasta!\n\nVoit ilmoittautua myös suoraan teemu.m.harjula@samk.fi\n\n\n\nTapahtuman järjestävät Satakunnan ammattikorkeakoulun RoLa Robotisoiva Laserhitsaus – sekä Yhteistyörobotilla kestävää kasvua konepajoihin -hankkeet.
URL:https://www.satakunnanbiolaakso.fi/tapahtuma/hitsaustyopaja-porissa/
END:VEVENT
BEGIN:VEVENT
DTSTART;TZID=Europe/Helsinki:20260203T000000
DTEND;TZID=Europe/Helsinki:20261130T235959
DTSTAMP:20260424T021835
CREATED:20260119T133929Z
LAST-MODIFIED:20260120T114942Z
UID:2523-1770076800-1796083199@www.satakunnanbiolaakso.fi
SUMMARY:Haluatko elintarvikeinsinööriksi?
DESCRIPTION:Jos pohdit jatko-opintoja ammattikorkeakoulussa\, nämä koulutukset ovat sinulle! \n\n\n\n\n\n\n\nHaluatko vahvistaa taitojasi ennen korkeakouluopintoja? ✨Tänä vuonna järjestetään maksuttomia koulutuksia kaikille\, jotka harkitsevat elintarvikealan korkeakouluopintoja. Koulutuksissa tutustutaan korkeakoulussa opiskeluun ja vahvistetaan perustaitoja kemiassa ja matematiikassa. Kaikkiin koulutuksiin on mahdollista osallistua verkon välityksellä.Tarjolla ovat:– AMK-opinnot tutuksi (verkko)– Opiskelutekniikka ja digitaidot opiskelussa (verkko)– Kemia (Porissa tai verkossa)– Matematiikka 1 ja 2 (Porissa tai verkossa\, syksy 2026)Koulutukseen osallistumisesta saa osallistumistodistuksen. \n\n\n\nKoulutukset ovat osa Elintarvikealan nopeat ja joustavat koulutuspolut -hanketta\, jota toteuttavat WinNova\, Pyhäjärvi-instituutti ja Satakunnan ammattikorkeakoulu. \n\n\n\nLue lisää\, ilmoittaudu ja ota askel kohti korkeakouluopintoja! \n\n\n\n\nIlmoittaudu mukaan täällä
URL:https://www.satakunnanbiolaakso.fi/tapahtuma/haluatko-elintarvikeinsinooriksi/
END:VEVENT
BEGIN:VEVENT
DTSTART;TZID=Europe/Helsinki:20260226T000000
DTEND;TZID=Europe/Helsinki:20261105T235959
DTSTAMP:20260424T021835
CREATED:20260119T133942Z
LAST-MODIFIED:20260119T142000Z
UID:2526-1772064000-1793923199@www.satakunnanbiolaakso.fi
SUMMARY:Maksutonta koulutusta ohjaajille ja opettajille
DESCRIPTION:Jos ohjaat työssäsi vieraskielisiä tai nuoria\, nämä koulutukset ovat sinulle! \n\n\n\n\n\n\n\nJos työssäsi kohtaat vieraskielisiä tai nuoria\, tämä koulutuskokonaisuus on sinulle. Ensi vuonna on tarjolla kolme teemaa\, joista jokainen vahvistaa arjen ohjaustilanteita:● selkokieli ja vieraskielisen ohjaaminen● työturvallisuuteen ja työhyvinvointiin ohjaaminen● suomalaiseen työkulttuuriin ohjaaminenKoulutukset järjestetään verkossa ja osallistumisesta saa osallistumistodistuksen.Tavoitteena on tukea elintarvikealan työpaikkoja moninaisissa työympäristöissä. \n\n\n\nKoulutukset ovat osa Elintarvikealan nopeat ja joustavat koulutuspolut hanketta\, jota toteuttavat WinNova\, Pyhäjärvi-instituutti ja Satakunnan ammattikorkeakoulu. \n\n\n\nLue lisää\, ilmoittaudu ja vahvista osaamistasi! \n\n\n\n\nIlmoittaudu mukaan täällä
URL:https://www.satakunnanbiolaakso.fi/tapahtuma/maksutonta-koulutusta-ohjaajille-ja-opettajille/
END:VEVENT
BEGIN:VEVENT
DTSTART;TZID=Europe/Helsinki:20260306T110000
DTEND;TZID=Europe/Helsinki:20260306T140000
DTSTAMP:20260424T021835
CREATED:20260126T133127Z
LAST-MODIFIED:20260128T092332Z
UID:2537-1772794800-1772805600@www.satakunnanbiolaakso.fi
SUMMARY:Älykäs Teollisuus -rekrytapahtuma
DESCRIPTION:SAMKin opiskelijat esittelevät osaamistaan ja projektejaan Huittisissa perjantaina 6.3. klo 11-14. \n\n\n\n\n\n\n\nMiksi osallistua:– Tapaat motivoituneita ja osaavia kansainvälisiä insinööriopiskelijoita.– Saat suoran katsauksen opiskelijoiden osaamiseen projektien ja demonstraatioiden kautta.– Luot kontakteja muihin yrityksiin ja alan toimijoihin.– Edistät yrityksenne näkyvyyttä ja imagoa nuorten osaajien keskuudessa. \n\n\n\nEsillä Hans 5\, Turin TPW20\, Megmeet Aura 12\, Yaskawa HC10 ja 3D-tulostettu robotti.Tapaa tulevaisuuden tekijöitä\, keskustele työmahdollisuuksista\, tutustu uusiin tekoälyinnovaatioihin ja verkostoidu muiden yritysten kanssa.Milloin: perjantaina 6.3. klo 11-14Missä: Kuninkaisten kampuksella Huittisissa\, A-aulassaMaksuton tapahtuma. Esillä mielenkiintoisia robotteja! Ei ennakkoilmoittautumista. Tervetuloa mukaan! \n\n\n\n\n\nTapahtuman järjestää Satakunnan ammattikorkeakoulun Teknologisesti vihreämpi ja vireämpi Etelä-Satakunta –hanke.
URL:https://www.satakunnanbiolaakso.fi/tapahtuma/alykas-teollisuus-rekrytapahtuma/
END:VEVENT
BEGIN:VEVENT
DTSTART;TZID=Europe/Helsinki:20260402T093000
DTEND;TZID=Europe/Helsinki:20260402T140000
DTSTAMP:20260424T021835
CREATED:20260312T111326Z
LAST-MODIFIED:20260312T111628Z
UID:2604-1775122200-1775138400@www.satakunnanbiolaakso.fi
SUMMARY:Laserhitsaus- ja Cobottipäivä Kankaanpäässä
DESCRIPTION:Tervetuloa Laserhitsaus- ja Cobottipäivään Kankaanpäähän to 2.4. klo 9:30–14! \n\n\n\nTyöpajan teemana on laser- ja robottihitsauksen sekä särmäysrobotiikan tulevaisuus. Tapahtumassa yhdistyvät teoria\, käytäntö ja uudet teknologiat! \n\n\n\nMissä: Auditorio Helmi\, Sataedu\, KankaanpääMilloin: To 2.4.2026 klo 9.30–14 \n\n\n\n\n\n\n\nAloitamme rennosti aamukahvilla ja tietopaketilla siitä\, miksi laser on yhä useammin oikea valinta\, kun tavoitellaan nopeutta\, tarkkuutta ja laatua. \n\n\n\nTietoiskun jälkeen pääset näkemään käytännössä: \n\n\n\n\nlaserhitsauksen sovelluksia sekä käsin että robotilla\n\n\n\nyhteistyörobotteja eli cobotteja hitsaustehtävissä\n\n\n\nuusinta hitsaustekniikkaa ja -laitteistoa käytännön esimerkeillä.\n\n\n\n\nTapahtuma tarjoaa erinomaisen mahdollisuuden verkostoitua\, keskustella alan asiantuntijoiden kanssa ja nähdä\, mihin suuntaan hitsaustekniikka kehittyy.Tapahtumassa on myös kahvi- ja teetarjoilu\, sekä suolaista ja makeaa purtavaa!Tarkempi aikataulu:Klo 9.30-10 aamukahvitKlo 10-11 Laserhitsausluento auditoriossa (Ionix)Klo 11-14 mahdollisuus tutustua näytteille asettajien tuotteisiin ja Sataedun koulutukseen (Hitsaus- ja laserhitsausmahdollisuus\, Robomatik\, Kemppi\, Finnrobotics\, Ionix) \n\n\n\nMitä viime edellisen työpajan osallistujat sanoivat?”Hyvät esittelijät ja käytännön demostraatiot erityisesti jäivät mieleen. Myös alun katsaus laserhitsaukseen oli hyvä\, tuli uutta tietoa.””Tapahtuma oli mielestäni juuri sopivan kokoinen\, ja vaikutti sopivan matalankynnyksen tapahtumalta jonne hyvin pienenkin yrityksen mukava tulla.””Vetonaulana ehdottomasti demonstraatiot ja saatavilla olevat teknologiamahdollisuudet.” \n\n\n\nIlmoittautumalla mukaan varaat oman paikkasi tuottavuuden kasvussa! \n\n\n\n\nIlmoittaudu mukaan\n\n\n\n\nLisätietoa tapahtumasta antaa Teemu Harjula\, teemu.m.harjula@samk.fi tai Jarkko Halmela\, jarkko.halmela@sataedu.fi \n\n\n\nTervetuloa mukaan! \n\n\n\n\n\nTapahtuman järjestävät Satakunnan ammattikorkeakoulun RoLa Robotisoitu Laserhitsaus – sekä Sataedun SataCobotti -hankkeet.
URL:https://www.satakunnanbiolaakso.fi/tapahtuma/laserhitsaus-ja-cobottipaiva-kankaanpaassa/
END:VEVENT
BEGIN:VEVENT
DTSTART;TZID=Europe/Helsinki:20260428T120000
DTEND;TZID=Europe/Helsinki:20260428T160000
DTSTAMP:20260424T021835
CREATED:20251208T094706Z
LAST-MODIFIED:20260420T103322Z
UID:2444-1777377600-1777392000@www.satakunnanbiolaakso.fi
SUMMARY:Yhteinen Tekijä -seminaari
DESCRIPTION:Ti 28.4. klo 12 – 16 Huittisissa \n\n\n\nYhteinen Tekijä -seminaari kokoaa saman katon alle yrittäjät\, opiskelijat\, asiantuntijat ja kehittäjät eli kaikki ne\, jotka haluavat nähdä\, millaiseksi Satakunnan elintarvikealan tulevaisuus voi yhteistyöllä kasvaa. 🤝 \n\n\n\n\n\n\n\nMissä: Risto Ryti -sali\, HuittinenMilloin: Ti 28.4.2026 klo 12 – 16 \n\n\n\n\nIlmoittaudu mukaan täällä\n\n\n\n\nKeynote-puheenvuorossa brändistrategi Toni Lähde\, joka näyttää\, miten yritykset löytävät oman kilpailuetunsa ja rakentavat brändin\, joka puhuttelee yleisöä – ja miten yhteistyöllä voidaan luoda vielä vaikuttavampaa alueellista näkyvyyttä. Puheenvuoro tarjoaa oivalluksia ja konkreettisia työkaluja Satakunnan Biolaakson toimijoille. \n\n\n\nTapahtumassa mukana:Sari EssayahMaa- ja metsätalousministeriToni LähdeBrändistrategiTerhi KinnariKinnarin TilaSuomalainen menestysresepti 2025 -kilpailun voittajaRiikka KoskinenToimitusjohtaja\, Töitä Suomesta OyTutta KemppiTehtaanjohtaja\, SaarioinenKalle Chef WallinYksi Suomen suosituimmista somekokeistaHenrik Yli-SeppäläLiiketoimintakehittäjä\, LADEC OyPäijät-Hämeen ViljaklusteriAnnika EklöfProjektipäällikkö\, Satakunnan BiolaaksoTapahtuman juontaa Kirsi Alm-Siira. \n\n\n\nElintarvikealan vahvuudet ovat Satakunnan valttikortti. On aika tehdä ne näkyviksi. 💡 Kun elintarvikealan tekijät tekevät aidosti yhdessä\, syntyy kokonaisuus\, joka näkyy kauas. \n\n\n\nSeminaari haastaa ajattelemaan uudella tavalla: miten brändiä rakennetaan\, miksi yhteistyö ratkaisee ja millaisia mahdollisuuksia ala pitää sisällään juuri nyt. ✨  \n\n\n\nSeminaarissa tehdään näkyväksi se\, mitä Satakunnan Biolaaksossa on jo saavutettu ja millaiseksi tulevaisuus voi kasvaa. Yksittäisiä paloja yhdistämällä syntyy se\, mitä emme voi rakentaa yksin. \n\n\n\nTämä tapahtuma sopii sinulle\, joka haluat kuulla tuoreita ajatuksia\, kerätä inspiraatiota ja nähdä\, millaisia uusia yhteyksiä syntyy\, kun saman katon alle kokoontuu joukko uteliaita\, tulevaisuuteen katsovia ihmisiä.Tapahtuma on maksuton ja avoin kaikille. \n\n\n\n\nIlmoittaudu mukaan täällä\n\n\n\n\n\n\nTapahtuman järjestää Satakunnan ammattikorkeakoulun Teknologisesti vihreämpi ja vireämpi Etelä-Satakunta –hanke.
URL:https://www.satakunnanbiolaakso.fi/tapahtuma/yhteinen-tekija/
END:VEVENT
END:VCALENDAR