BEGIN:VCALENDAR
VERSION:2.0
PRODID:-//Satakunnan Biolaakso - ECPv6.15.18//NONSGML v1.0//EN
CALSCALE:GREGORIAN
METHOD:PUBLISH
X-ORIGINAL-URL:https://www.satakunnanbiolaakso.fi
X-WR-CALDESC:Tapahtumat Satakunnan Biolaakso
REFRESH-INTERVAL;VALUE=DURATION:PT1H
X-Robots-Tag:noindex
X-PUBLISHED-TTL:PT1H
BEGIN:VTIMEZONE
TZID:Europe/Helsinki
BEGIN:DAYLIGHT
TZOFFSETFROM:+0200
TZOFFSETTO:+0300
TZNAME:EEST
DTSTART:20240331T010000
END:DAYLIGHT
BEGIN:STANDARD
TZOFFSETFROM:+0300
TZOFFSETTO:+0200
TZNAME:EET
DTSTART:20241027T010000
END:STANDARD
BEGIN:DAYLIGHT
TZOFFSETFROM:+0200
TZOFFSETTO:+0300
TZNAME:EEST
DTSTART:20250330T010000
END:DAYLIGHT
BEGIN:STANDARD
TZOFFSETFROM:+0300
TZOFFSETTO:+0200
TZNAME:EET
DTSTART:20251026T010000
END:STANDARD
BEGIN:DAYLIGHT
TZOFFSETFROM:+0200
TZOFFSETTO:+0300
TZNAME:EEST
DTSTART:20260329T010000
END:DAYLIGHT
BEGIN:STANDARD
TZOFFSETFROM:+0300
TZOFFSETTO:+0200
TZNAME:EET
DTSTART:20261025T010000
END:STANDARD
END:VTIMEZONE
BEGIN:VEVENT
DTSTART;TZID=Europe/Helsinki:20251105T083000
DTEND;TZID=Europe/Helsinki:20251105T160000
DTSTAMP:20260423T190459
CREATED:20250901T093442Z
LAST-MODIFIED:20250901T093634Z
UID:2227-1762331400-1762358400@www.satakunnanbiolaakso.fi
SUMMARY:Kirkkokallio-konferenssi
DESCRIPTION:Ke 5.11. klo 8-30 – 16 \n\n\n\nKiertotalouden ja kestävän teollisuuden asiantuntijapäivä\n\n\n\n\n\n\n\nTervetuloa 5.11. klo 8.30–16 Kirkkokallio-konferenssiin Pohjois-Satakuntaan\, Kankaanpäähän. Asiantuntijapäivä kokoaa kiertotaloudesta kiinnostuneet kuulemaan Kirkkokallion ekoteollisuuspuiston tuoreimpia kehittämissuuntia\, keynote-puheenvuoroja kiertotalouden ja vihreän siirtymän ammattilaisilta sekä verkostoitumaan. Tilaisuuden ja iltapäivän paneelikeskustelun juontaa Norrum Oy:n Jukka Teräs\, joka tuntee hyvin Suomen ekoteollisuuspuistokenttää ja on ollut asiantuntijana mukana laatimassa Kirkkokallion strategiaa.  \n\n\n\nKirkkokallion ekoteollisuuspuisto Kankaanpään Honkajoella on yksi Suomen vanhimmista ekoteollisuuspuistoista\, jossa energiayhtiö ja yritykset muodostavat poikkeuksellisen toimivan yhteistyöverkoston. Kirkkokalliolla sivuvirrat\, hukkalämpö ja energia kiertävät yritysten välillä tehokkaasti. Kiertotalouden yritysveturina alueella toimii Honkajoki Oy\, joka käsittelee eläinperäiset sivuvirrat kiertoon turvallisesti lähes ainoana toimijana Suomessa. \n\n\n\nTapahtuman järjestää Satakunnan ammattikorkeakoulun Resurssiviisauden tutkimuskokonaisuuden vetämä Pohjois-Satakunta vihreän siirtymän aalloilla -hanke yhteistyössä Kankaanpään kaupungin ja Kirkkokallion toimijoiden kanssa. Hanketta rahoittaa EU:n Oikeudenmukaisen siirtymän rahasto ja Satakuntaliitto. \n\n\n\nPuhujat ja sijaintitiedot päivitetään tapahtumasivulle\, josta löydät myös ilmoittautumislinkin: https://psvsa.samk.fi/kirkkokallio-konferenssi/ 
URL:https://www.satakunnanbiolaakso.fi/tapahtuma/kirkkokallio-konferenssi/
END:VEVENT
END:VCALENDAR