BEGIN:VCALENDAR
VERSION:2.0
PRODID:-//Satakunnan Biolaakso - ECPv6.15.18//NONSGML v1.0//EN
CALSCALE:GREGORIAN
METHOD:PUBLISH
X-ORIGINAL-URL:https://www.satakunnanbiolaakso.fi
X-WR-CALDESC:Tapahtumat Satakunnan Biolaakso
REFRESH-INTERVAL;VALUE=DURATION:PT1H
X-Robots-Tag:noindex
X-PUBLISHED-TTL:PT1H
BEGIN:VTIMEZONE
TZID:Europe/Helsinki
BEGIN:DAYLIGHT
TZOFFSETFROM:+0200
TZOFFSETTO:+0300
TZNAME:EEST
DTSTART:20240331T010000
END:DAYLIGHT
BEGIN:STANDARD
TZOFFSETFROM:+0300
TZOFFSETTO:+0200
TZNAME:EET
DTSTART:20241027T010000
END:STANDARD
BEGIN:DAYLIGHT
TZOFFSETFROM:+0200
TZOFFSETTO:+0300
TZNAME:EEST
DTSTART:20250330T010000
END:DAYLIGHT
BEGIN:STANDARD
TZOFFSETFROM:+0300
TZOFFSETTO:+0200
TZNAME:EET
DTSTART:20251026T010000
END:STANDARD
BEGIN:DAYLIGHT
TZOFFSETFROM:+0200
TZOFFSETTO:+0300
TZNAME:EEST
DTSTART:20260329T010000
END:DAYLIGHT
BEGIN:STANDARD
TZOFFSETFROM:+0300
TZOFFSETTO:+0200
TZNAME:EET
DTSTART:20261025T010000
END:STANDARD
END:VTIMEZONE
BEGIN:VEVENT
DTSTART;TZID=Europe/Helsinki:20250917T120000
DTEND;TZID=Europe/Helsinki:20250917T153000
DTSTAMP:20260423T220731
CREATED:20250731T091536Z
LAST-MODIFIED:20250806T084120Z
UID:2168-1758110400-1758123000@www.satakunnanbiolaakso.fi
SUMMARY:Yhteistyöteemainen työpaja 17.9.
DESCRIPTION:Yhteistyöteemainen työpaja\n\n\n\n\n\nKe 17.9. klo 12 – 15:30 \n\n\n\nKäytännön yhteistyötä uusien markkinoiden hankkimiseksi\n\n\n\nYhteistyössä uutta kestävää liiketoimintaa ja asiakkaita Satakunnan elintarvikealan yrityksille! \n\n\n\nTervetuloa 17.9. klo 11-16:00 Katismaan saareen Säkylään yhteistyöteemaiseen työpajatilaisuuteen. Tilaa vain rajoitetusti. Työpaja alkaa klo 12\, mutta tarjoamme lounaan ennen tilaisuutta alkaen klo 11. \n\n\n\nPaikka: Katismaan saari\, SäkyläAika: ke 17.9. klo 12 – 15:30 \n\n\n\nTapahtumassa keskitytään elintarvikealan resurssitehokkuuden parantamiseen yritysten yhteistyön keinoin. Tavoitteena on löytää käytännön ratkaisuja tuotantotilojen\, koneiden\, laitteiden\, tuotanto- ja pakkauskapasiteetin sekä muiden resurssien yhteiskäyttöön.Yhteistyöhön perustuva resurssien jakaminen voi vähentää tarpeetonta kapasiteettia\, lisätä käyttöastetta ja tuottaa kustannussäästöjä\, samalla pienentäen ympäristövaikutuksia. Tilaisuus tarjoaa foorumin verkostoitumiseen\, hyvien käytäntöjen jakamiseen ja uusien yhteistyömallien kehittämiseen.Lopputuloksena syntyy uusia ideoita ja mahdollisuuksia\, jotka voivat viedä toimintasi seuraavalle tasolle. Lue lisää täältä. \n\n\n\nMiksi osallistua? \n\n\n\n\nLöydä tapoja hyödyntää paikallisten yritysten ja muiden alan toimijoiden resursseja\n\n\n\nKehitä uusia ratkaisuja yhteistyössä muiden kanssa\n\n\n\nOpi muiden hyvistä käytännöistä\n\n\n\nLöydä uusia asiakkaita ja kumppaneita\n\n\n\n\nYksittäinen pala voi olla pieni\, mutta kun oikeat palat loksahtavat kohdalleen\, syntyy jotain suurempaa. Nyt on mahtava mahdollisuus varmistaa\, että Satakunnan ruoka-ala kehittyy tarpeidesi suuntaan. \n\n\n\n\n\n\n\nSparraajina Ville Availa ja Dani WarnickiVille Availa (Executive MBA) on yrittäjä\, muutosjohtaja\, kehittäjä ja hallitusammattilainen\, joka yhdistää strategista johtamista\, ennakointityötä\, vastuullista liiketoimintaa ja digitaalisuuden mahdollisuuksia sulavasti keskenään. Hän toimii myös hallitusammattilaisena\, keynote-puhujana sekä johtoryhmien fasilitaattorina.Dani Warnicki (KTM) on liiketoiminnan kehittämisen konsultti. Hänellä on useamman vuoden kokemus yrittäjyydestä ja liiketoiminnan kehittämisestä. Dani lähestyy kestävyyttä ja vastuullisuutta sekä kaupallisesta\, että ympäristöllisestä näkökulmasta. \n\n\n\nIlmoittautuminen tilaisuuteen on auki pe 12.9. asti. Tilaa vain rajoitetusti! Tilaisuus on maksuton.Ilmoittautuminen ja lisätietoa tapahtumasta saat Elsa Penttilältä (elsa.penttila@samk.fi). \n\n\n\nYhteistyötä rakennettiin jo #palatpaikalleen-työpajassa toukokuussa 2025. Yksi toi tarpeen\, toinen ideoi siihen ratkaisua. Kolmas näki mahdollisuuden yhdistää voimansa molempien kanssa.\n\n\n\nTyöpajat järjestää Teknologisesti vihreämpi ja vireämpi Etelä-Satakunta -hanke. Hanketta rahoittavat Satakuntaliitto ja SAMK. Projekti on EU:n osarahoittama. Lue hankkeesta lisää.
URL:https://www.satakunnanbiolaakso.fi/tapahtuma/yhteistyo-tyopaja/
END:VEVENT
END:VCALENDAR